Package: gmapR Version: 1.53.0 Command: /Library/Frameworks/R.framework/Resources/bin/R CMD build --keep-empty-dirs --no-resave-data gmapR StartedAt: 2025-11-13 16:34:28 -0500 (Thu, 13 Nov 2025) EndedAt: 2025-11-13 16:35:06 -0500 (Thu, 13 Nov 2025) EllapsedTime: 38.4 seconds RetCode: 1 Status: ERROR PackageFile: None PackageFileSize: NA