Package: globaltest Version: 5.65.0 Command: /Library/Frameworks/R.framework/Resources/bin/R CMD INSTALL globaltest StartedAt: 2025-11-13 15:09:20 -0500 (Thu, 13 Nov 2025) EndedAt: 2025-11-13 15:09:29 -0500 (Thu, 13 Nov 2025) EllapsedTime: 8.3 seconds RetCode: 0 Status: OK