Package: globaltest Version: 5.65.0 Command: /Library/Frameworks/R.framework/Resources/bin/R CMD build --keep-empty-dirs --no-resave-data globaltest StartedAt: 2025-11-13 16:34:23 -0500 (Thu, 13 Nov 2025) EndedAt: 2025-11-13 17:14:24 -0500 (Thu, 13 Nov 2025) EllapsedTime: 2401.0 seconds RetCode: None Status: TIMEOUT PackageFile: None PackageFileSize: NA