Package: globaltest Version: 5.65.0 Maintainer: Jelle Goeman MaintainerEmail: j.j.goeman at lumc.nl git_url: https://git.bioconductor.org/packages/globaltest git_branch: devel git_last_commit: f1b6690 git_last_commit_date: 2025-10-29 09:55:12 -0500 (Wed, 29 Oct 2025)