Package: globalSeq Version: 1.39.0 Command: /home/biocbuild/bbs-3.23-bioc/R/bin/R CMD INSTALL globalSeq StartedAt: 2025-11-11 15:10:12 -0500 (Tue, 11 Nov 2025) EndedAt: 2025-11-11 15:10:47 -0500 (Tue, 11 Nov 2025) EllapsedTime: 34.8 seconds RetCode: 0 Status: OK