Package: globalSeq Version: 1.39.0 Command: /home/biocbuild/bbs-3.23-bioc/R/bin/R CMD build --keep-empty-dirs --no-resave-data globalSeq StartedAt: 2025-11-14 17:50:51 -0500 (Fri, 14 Nov 2025) EndedAt: 2025-11-14 17:51:01 -0500 (Fri, 14 Nov 2025) EllapsedTime: 10.0 seconds RetCode: 0 Status: OK PackageFile: globalSeq_1.39.0.tar.gz PackageFileSize: 715.1 KiB