Package: globalSeq Version: 1.39.0 Command: /Library/Frameworks/R.framework/Resources/bin/R CMD INSTALL globalSeq StartedAt: 2025-11-13 15:03:40 -0500 (Thu, 13 Nov 2025) EndedAt: 2025-11-13 15:03:59 -0500 (Thu, 13 Nov 2025) EllapsedTime: 18.9 seconds RetCode: 0 Status: OK