Package: globalSeq Version: 1.39.0 Command: /Library/Frameworks/R.framework/Resources/bin/R CMD build --keep-empty-dirs --no-resave-data globalSeq StartedAt: 2025-11-13 16:34:17 -0500 (Thu, 13 Nov 2025) EndedAt: 2025-11-13 16:34:23 -0500 (Thu, 13 Nov 2025) EllapsedTime: 6.1 seconds RetCode: 0 Status: OK PackageFile: globalSeq_1.39.0.tar.gz PackageFileSize: 715.9 KiB