Package: globalSeq Version: 1.39.0 Command: rm -rf globalSeq.buildbin-libdir && mkdir globalSeq.buildbin-libdir && /Users/biocbuild/BBS/utils/build-universal.sh globalSeq_1.39.0.tar.gz /Library/Frameworks/R.framework/Resources/bin/R globalSeq.buildbin-libdir StartedAt: 2025-11-13 23:40:03 -0500 (Thu, 13 Nov 2025) EndedAt: 2025-11-13 23:40:05 -0500 (Thu, 13 Nov 2025) EllapsedTime: 2.1 seconds RetCode: 0 Status: OK PackageFile: globalSeq_1.39.0.tgz PackageFileSize: 711.6 KiB