Package: globalSeq Version: 1.39.0 Maintainer: Armin Rauschenberger MaintainerEmail: armin.rauschenberger at uni.lu git_url: https://git.bioconductor.org/packages/globalSeq git_branch: devel git_last_commit: 50c9aeb git_last_commit_date: 2025-10-29 10:28:42 -0500 (Wed, 29 Oct 2025)