Package: glmSparseNet Version: 1.29.0 Command: /home/biocbuild/bbs-3.23-bioc/R/bin/R CMD check --install=check:glmSparseNet.install-out.txt --library=/home/biocbuild/bbs-3.23-bioc/R/site-library --timings glmSparseNet_1.29.0.tar.gz StartedAt: 2025-11-14 00:05:12 -0500 (Fri, 14 Nov 2025) EndedAt: 2025-11-14 00:12:02 -0500 (Fri, 14 Nov 2025) EllapsedTime: 410.6 seconds RetCode: 0 Status: OK CheckDir: glmSparseNet.Rcheck Warnings: 0