Package: glmSparseNet Version: 1.29.0 Command: /home/biocbuild/bbs-3.23-bioc/R/bin/R CMD build --keep-empty-dirs --no-resave-data glmSparseNet StartedAt: 2025-11-11 17:53:44 -0500 (Tue, 11 Nov 2025) EndedAt: 2025-11-11 18:07:36 -0500 (Tue, 11 Nov 2025) EllapsedTime: 831.8 seconds RetCode: 0 Status: OK PackageFile: glmSparseNet_1.29.0.tar.gz PackageFileSize: 2.817 MiB