Package: glmSparseNet Version: 1.29.0 Command: /Library/Frameworks/R.framework/Resources/bin/R CMD INSTALL glmSparseNet StartedAt: 2025-11-12 15:40:54 -0500 (Wed, 12 Nov 2025) EndedAt: 2025-11-12 15:40:55 -0500 (Wed, 12 Nov 2025) EllapsedTime: 1.3 seconds RetCode: 0 Status: OK