Package: glmSparseNet Version: 1.29.0 Command: /Library/Frameworks/R.framework/Resources/bin/R CMD build --keep-empty-dirs --no-resave-data glmSparseNet StartedAt: 2025-11-12 16:22:50 -0500 (Wed, 12 Nov 2025) EndedAt: 2025-11-12 16:22:56 -0500 (Wed, 12 Nov 2025) EllapsedTime: 6.1 seconds RetCode: 1 Status: ERROR PackageFile: None PackageFileSize: NA