Package: glmGamPoi Version: 1.23.0 Command: /home/biocbuild/bbs-3.23-bioc/R/bin/R CMD INSTALL glmGamPoi StartedAt: 2025-11-13 15:35:28 -0500 (Thu, 13 Nov 2025) EndedAt: 2025-11-13 15:36:26 -0500 (Thu, 13 Nov 2025) EllapsedTime: 57.7 seconds RetCode: 0 Status: OK