Package: glmGamPoi Version: 1.23.0 Command: /home/biocbuild/bbs-3.23-bioc/R/bin/R CMD build --keep-empty-dirs --no-resave-data glmGamPoi StartedAt: 2025-11-11 17:53:43 -0500 (Tue, 11 Nov 2025) EndedAt: 2025-11-11 18:00:34 -0500 (Tue, 11 Nov 2025) EllapsedTime: 411.3 seconds RetCode: 1 Status: ERROR PackageFile: None PackageFileSize: NA