Package: glmGamPoi Version: 1.23.0 Command: /Library/Frameworks/R.framework/Resources/bin/R CMD INSTALL glmGamPoi StartedAt: 2025-11-13 15:12:25 -0500 (Thu, 13 Nov 2025) EndedAt: 2025-11-13 15:12:43 -0500 (Thu, 13 Nov 2025) EllapsedTime: 17.7 seconds RetCode: 0 Status: OK