############################################################################## ############################################################################## ### ### Running command: ### ### /Library/Frameworks/R.framework/Resources/bin/R CMD build --keep-empty-dirs --no-resave-data glmGamPoi ### ############################################################################## ############################################################################## * checking for file ‘glmGamPoi/DESCRIPTION’ ... OK * preparing ‘glmGamPoi’: * checking DESCRIPTION meta-information ... OK * cleaning src * installing the package (it is needed to build vignettes) ----------------------------------- ERROR: dependency ‘HDF5Array’ is not available for package ‘glmGamPoi’ Perhaps try a variation of: install.packages('HDF5Array') * removing ‘/private/var/folders/r0/l4fjk6cj5xj0j3brt4bplpl40000gt/T/RtmpnaV9kH/Rinst24da6fdb4daf/glmGamPoi’ ----------------------------------- ERROR: package installation failed