Package: glmGamPoi Version: 1.23.0 Maintainer: Constantin Ahlmann-Eltze MaintainerEmail: artjom31415 at googlemail.com git_url: https://git.bioconductor.org/packages/glmGamPoi git_branch: devel git_last_commit: 23ac45d git_last_commit_date: 2025-10-29 10:58:15 -0500 (Wed, 29 Oct 2025)