Package: ggtreeSpace Version: 1.7.0 Command: /home/biocbuild/bbs-3.23-bioc/R/bin/R CMD INSTALL ggtreeSpace StartedAt: 2025-11-14 15:11:30 -0500 (Fri, 14 Nov 2025) EndedAt: 2025-11-14 15:11:44 -0500 (Fri, 14 Nov 2025) EllapsedTime: 13.7 seconds RetCode: 0 Status: OK