Package: ggtreeSpace Version: 1.7.0 Command: /home/biocbuild/bbs-3.23-bioc/R/bin/R CMD build --keep-empty-dirs --no-resave-data ggtreeSpace StartedAt: 2025-11-14 17:50:08 -0500 (Fri, 14 Nov 2025) EndedAt: 2025-11-14 17:50:28 -0500 (Fri, 14 Nov 2025) EllapsedTime: 20.0 seconds RetCode: 0 Status: OK PackageFile: ggtreeSpace_1.7.0.tar.gz PackageFileSize: 517.4 KiB