Package: ggtreeSpace Version: 1.7.0 Command: /Library/Frameworks/R.framework/Resources/bin/R CMD build --keep-empty-dirs --no-resave-data ggtreeSpace StartedAt: 2025-11-13 16:32:59 -0500 (Thu, 13 Nov 2025) EndedAt: 2025-11-13 16:33:07 -0500 (Thu, 13 Nov 2025) EllapsedTime: 8.1 seconds RetCode: 0 Status: OK PackageFile: ggtreeSpace_1.7.0.tar.gz PackageFileSize: 566.5 KiB