Package: ggtreeSpace Version: 1.7.0 Command: rm -rf ggtreeSpace.buildbin-libdir && mkdir ggtreeSpace.buildbin-libdir && /Users/biocbuild/BBS/utils/build-universal.sh ggtreeSpace_1.7.0.tar.gz /Library/Frameworks/R.framework/Resources/bin/R ggtreeSpace.buildbin-libdir StartedAt: 2025-11-13 23:39:57 -0500 (Thu, 13 Nov 2025) EndedAt: 2025-11-13 23:40:03 -0500 (Thu, 13 Nov 2025) EllapsedTime: 6.1 seconds RetCode: 0 Status: OK PackageFile: ggtreeSpace_1.7.0.tgz PackageFileSize: 600.1 KiB