Package: ggtreeSpace Version: 1.7.0 Maintainer: Guangchuang Yu MaintainerEmail: guangchuangyu at gmail.com git_url: https://git.bioconductor.org/packages/ggtreeSpace git_branch: devel git_last_commit: 049d55c git_last_commit_date: 2025-10-29 11:29:47 -0500 (Wed, 29 Oct 2025)