Package: ggtreeExtra Version: 1.21.0 Command: /home/biocbuild/bbs-3.23-bioc/R/bin/R CMD build --keep-empty-dirs --no-resave-data ggtreeExtra StartedAt: 2025-11-13 17:49:43 -0500 (Thu, 13 Nov 2025) EndedAt: 2025-11-13 17:50:04 -0500 (Thu, 13 Nov 2025) EllapsedTime: 21.0 seconds RetCode: 0 Status: OK PackageFile: ggtreeExtra_1.21.0.tar.gz PackageFileSize: 526.4 KiB