Package: ggtreeExtra Version: 1.21.0 Command: /Library/Frameworks/R.framework/Resources/bin/R CMD INSTALL ggtreeExtra StartedAt: 2025-11-13 15:05:59 -0500 (Thu, 13 Nov 2025) EndedAt: 2025-11-13 15:06:02 -0500 (Thu, 13 Nov 2025) EllapsedTime: 3.3 seconds RetCode: 0 Status: OK