Package: ggtreeExtra Version: 1.21.0 Command: /Library/Frameworks/R.framework/Resources/bin/R CMD build --keep-empty-dirs --no-resave-data ggtreeExtra StartedAt: 2025-11-13 16:32:58 -0500 (Thu, 13 Nov 2025) EndedAt: 2025-11-13 16:33:07 -0500 (Thu, 13 Nov 2025) EllapsedTime: 9.1 seconds RetCode: 0 Status: OK PackageFile: ggtreeExtra_1.21.0.tar.gz PackageFileSize: 939.7 KiB