Package: ggtreeExtra Version: 1.21.0 Command: rm -rf ggtreeExtra.buildbin-libdir && mkdir ggtreeExtra.buildbin-libdir && /Users/biocbuild/BBS/utils/build-universal.sh ggtreeExtra_1.21.0.tar.gz /Library/Frameworks/R.framework/Resources/bin/R ggtreeExtra.buildbin-libdir StartedAt: 2025-11-13 23:39:56 -0500 (Thu, 13 Nov 2025) EndedAt: 2025-11-13 23:40:00 -0500 (Thu, 13 Nov 2025) EllapsedTime: 4.1 seconds RetCode: 0 Status: OK PackageFile: ggtreeExtra_1.21.0.tgz PackageFileSize: 1.051 MiB