Package: ggtree Version: 4.1.1 Command: /home/biocbuild/bbs-3.23-bioc/R/bin/R CMD INSTALL ggtree StartedAt: 2025-11-11 15:14:21 -0500 (Tue, 11 Nov 2025) EndedAt: 2025-11-11 15:14:33 -0500 (Tue, 11 Nov 2025) EllapsedTime: 11.8 seconds RetCode: 0 Status: OK