Package: ggtree Version: 4.1.1 Command: /Library/Frameworks/R.framework/Resources/bin/R CMD INSTALL ggtree StartedAt: 2025-11-14 15:06:26 -0500 (Fri, 14 Nov 2025) EndedAt: 2025-11-14 15:06:32 -0500 (Fri, 14 Nov 2025) EllapsedTime: 5.7 seconds RetCode: 0 Status: OK