Package: ggtree Version: 4.1.1 Command: /Library/Frameworks/R.framework/Resources/bin/R CMD check --install=check:ggtree.install-out.txt --library=/Library/Frameworks/R.framework/Resources/library --no-vignettes --timings ggtree_4.1.1.tar.gz StartedAt: 2025-11-14 20:11:40 -0500 (Fri, 14 Nov 2025) EndedAt: 2025-11-14 20:12:24 -0500 (Fri, 14 Nov 2025) EllapsedTime: 43.7 seconds RetCode: 0 Status: OK CheckDir: ggtree.Rcheck Warnings: 0