Package: ggtree Version: 4.1.1 Command: /Library/Frameworks/R.framework/Resources/bin/R CMD build --keep-empty-dirs --no-resave-data ggtree StartedAt: 2025-11-14 16:29:41 -0500 (Fri, 14 Nov 2025) EndedAt: 2025-11-14 16:29:47 -0500 (Fri, 14 Nov 2025) EllapsedTime: 6.3 seconds RetCode: 0 Status: OK PackageFile: ggtree_4.1.1.tar.gz PackageFileSize: 355.9 KiB