Package: ggtree Version: 4.1.1 Command: rm -rf ggtree.buildbin-libdir && mkdir ggtree.buildbin-libdir && /Users/biocbuild/BBS/utils/build-universal.sh ggtree_4.1.1.tar.gz /Library/Frameworks/R.framework/Resources/bin/R ggtree.buildbin-libdir StartedAt: 2025-11-14 23:34:59 -0500 (Fri, 14 Nov 2025) EndedAt: 2025-11-14 23:35:05 -0500 (Fri, 14 Nov 2025) EllapsedTime: 6.2 seconds RetCode: 0 Status: OK PackageFile: ggtree_4.1.1.tgz PackageFileSize: 1007 KiB