Package: ggseqalign Version: 1.5.0 Command: /home/biocbuild/bbs-3.23-bioc/R/bin/R CMD INSTALL ggseqalign StartedAt: 2025-11-14 15:51:32 -0500 (Fri, 14 Nov 2025) EndedAt: 2025-11-14 15:51:45 -0500 (Fri, 14 Nov 2025) EllapsedTime: 12.7 seconds RetCode: 0 Status: OK