Package: ggseqalign Version: 1.5.0 Command: /Library/Frameworks/R.framework/Resources/bin/R CMD build --keep-empty-dirs --no-resave-data ggseqalign StartedAt: 2025-11-14 16:29:36 -0500 (Fri, 14 Nov 2025) EndedAt: 2025-11-14 16:29:48 -0500 (Fri, 14 Nov 2025) EllapsedTime: 12.3 seconds RetCode: 0 Status: OK PackageFile: ggseqalign_1.5.0.tar.gz PackageFileSize: 714.2 KiB