Package: ggseqalign Version: 1.5.0 Command: rm -rf ggseqalign.buildbin-libdir && mkdir ggseqalign.buildbin-libdir && /Users/biocbuild/BBS/utils/build-universal.sh ggseqalign_1.5.0.tar.gz /Library/Frameworks/R.framework/Resources/bin/R ggseqalign.buildbin-libdir StartedAt: 2025-11-13 23:39:53 -0500 (Thu, 13 Nov 2025) EndedAt: 2025-11-13 23:40:00 -0500 (Thu, 13 Nov 2025) EllapsedTime: 7.2 seconds RetCode: 0 Status: OK PackageFile: ggseqalign_1.5.0.tgz PackageFileSize: 730.5 KiB