Package: ggseqalign Version: 1.5.0 Maintainer: Simeon Lim Rossmann MaintainerEmail: simeon.rossmann at nmbu.no git_url: https://git.bioconductor.org/packages/ggseqalign git_branch: devel git_last_commit: 2aa88e4 git_last_commit_date: 2025-10-29 11:30:32 -0500 (Wed, 29 Oct 2025)