Package: ggsc Version: 1.9.0 Command: /Library/Frameworks/R.framework/Resources/bin/R CMD INSTALL ggsc StartedAt: 2025-11-23 15:12:32 -0500 (Sun, 23 Nov 2025) EndedAt: 2025-11-23 15:12:52 -0500 (Sun, 23 Nov 2025) EllapsedTime: 19.9 seconds RetCode: 0 Status: OK