Package: ggsc Version: 1.9.0 Command: /Library/Frameworks/R.framework/Resources/bin/R CMD build --keep-empty-dirs --no-resave-data ggsc StartedAt: 2025-11-23 16:30:34 -0500 (Sun, 23 Nov 2025) EndedAt: 2025-11-23 16:30:56 -0500 (Sun, 23 Nov 2025) EllapsedTime: 21.2 seconds RetCode: 0 Status: OK PackageFile: ggsc_1.9.0.tar.gz PackageFileSize: 81.48 KiB