Package: ggsc Version: 1.9.0 Command: rm -rf ggsc.buildbin-libdir && mkdir ggsc.buildbin-libdir && /Users/biocbuild/BBS/utils/build-universal.sh ggsc_1.9.0.tar.gz /Library/Frameworks/R.framework/Resources/bin/R ggsc.buildbin-libdir StartedAt: 2025-11-23 23:37:52 -0500 (Sun, 23 Nov 2025) EndedAt: 2025-11-23 23:38:17 -0500 (Sun, 23 Nov 2025) EllapsedTime: 24.6 seconds RetCode: 0 Status: OK PackageFile: ggsc_1.9.0.tgz PackageFileSize: 354.1 KiB