Package: ggmsa Version: 1.17.0 Command: /home/biocbuild/bbs-3.23-bioc/R/bin/R CMD INSTALL ggmsa StartedAt: 2025-11-23 15:38:51 -0500 (Sun, 23 Nov 2025) EndedAt: 2025-11-23 15:39:07 -0500 (Sun, 23 Nov 2025) EllapsedTime: 15.7 seconds RetCode: 0 Status: OK