Package: ggmsa Version: 1.17.0 Command: /home/biocbuild/bbs-3.23-bioc/R/bin/R CMD build --keep-empty-dirs --no-resave-data ggmsa StartedAt: 2025-11-23 17:50:58 -0500 (Sun, 23 Nov 2025) EndedAt: 2025-11-23 17:51:28 -0500 (Sun, 23 Nov 2025) EllapsedTime: 30.0 seconds RetCode: 0 Status: OK PackageFile: ggmsa_1.17.0.tar.gz PackageFileSize: 3.141 MiB