Package: ggmsa Version: 1.17.0 Command: /Library/Frameworks/R.framework/Resources/bin/R CMD INSTALL ggmsa StartedAt: 2025-11-14 15:10:50 -0500 (Fri, 14 Nov 2025) EndedAt: 2025-11-14 15:10:56 -0500 (Fri, 14 Nov 2025) EllapsedTime: 5.8 seconds RetCode: 0 Status: OK