Package: ggmsa Version: 1.17.0 Command: /Library/Frameworks/R.framework/Resources/bin/R CMD build --keep-empty-dirs --no-resave-data ggmsa StartedAt: 2025-11-14 16:29:24 -0500 (Fri, 14 Nov 2025) EndedAt: 2025-11-14 16:29:37 -0500 (Fri, 14 Nov 2025) EllapsedTime: 13.1 seconds RetCode: 0 Status: OK PackageFile: ggmsa_1.17.0.tar.gz PackageFileSize: 3.271 MiB