Package: ggbio Version: 1.59.0 Command: /Library/Frameworks/R.framework/Resources/bin/R CMD INSTALL ggbio StartedAt: 2025-11-13 15:24:49 -0500 (Thu, 13 Nov 2025) EndedAt: 2025-11-13 15:25:12 -0500 (Thu, 13 Nov 2025) EllapsedTime: 23.5 seconds RetCode: 0 Status: OK