Package: ggbio Version: 1.59.0 Command: /Library/Frameworks/R.framework/Resources/bin/R CMD build --keep-empty-dirs --no-resave-data ggbio StartedAt: 2025-11-14 16:28:54 -0500 (Fri, 14 Nov 2025) EndedAt: 2025-11-14 16:31:27 -0500 (Fri, 14 Nov 2025) EllapsedTime: 153.8 seconds RetCode: 0 Status: OK PackageFile: ggbio_1.59.0.tar.gz PackageFileSize: 3.333 MiB