Package: ggbio Version: 1.59.0 Command: rm -rf ggbio.buildbin-libdir && mkdir ggbio.buildbin-libdir && /Users/biocbuild/BBS/utils/build-universal.sh ggbio_1.59.0.tar.gz /Library/Frameworks/R.framework/Resources/bin/R ggbio.buildbin-libdir StartedAt: 2025-11-14 23:34:47 -0500 (Fri, 14 Nov 2025) EndedAt: 2025-11-14 23:35:15 -0500 (Fri, 14 Nov 2025) EllapsedTime: 27.7 seconds RetCode: 0 Status: OK PackageFile: ggbio_1.59.0.tgz PackageFileSize: 3.517 MiB