Package: getDEE2 Version: 1.21.0 Command: /home/biocbuild/bbs-3.23-bioc/R/bin/R CMD INSTALL getDEE2 StartedAt: 2025-11-13 15:18:17 -0500 (Thu, 13 Nov 2025) EndedAt: 2025-11-13 15:18:35 -0500 (Thu, 13 Nov 2025) EllapsedTime: 18.7 seconds RetCode: 0 Status: OK