Package: getDEE2 Version: 1.21.0 Command: /home/biocbuild/bbs-3.23-bioc/R/bin/R CMD build --keep-empty-dirs --no-resave-data getDEE2 StartedAt: 2025-11-13 17:47:47 -0500 (Thu, 13 Nov 2025) EndedAt: 2025-11-13 17:49:39 -0500 (Thu, 13 Nov 2025) EllapsedTime: 112.1 seconds RetCode: 0 Status: OK PackageFile: getDEE2_1.21.0.tar.gz PackageFileSize: 23.56 KiB