Package: getDEE2 Version: 1.21.0 Command: /Library/Frameworks/R.framework/Resources/bin/R CMD INSTALL getDEE2 StartedAt: 2025-11-13 15:11:43 -0500 (Thu, 13 Nov 2025) EndedAt: 2025-11-13 15:11:51 -0500 (Thu, 13 Nov 2025) EllapsedTime: 7.8 seconds RetCode: 0 Status: OK